BEGIN:VCALENDAR
VERSION:2.0
PRODID:-//Personal Best Talent - ECPv6.9.0//NONSGML v1.0//EN
CALSCALE:GREGORIAN
METHOD:PUBLISH
X-WR-CALNAME:Personal Best Talent
X-ORIGINAL-URL:https://personalbesttalent.com
X-WR-CALDESC:Events for Personal Best Talent
REFRESH-INTERVAL;VALUE=DURATION:PT1H
X-Robots-Tag:noindex
X-PUBLISHED-TTL:PT1H
BEGIN:VTIMEZONE
TZID:UTC
BEGIN:STANDARD
TZOFFSETFROM:+0000
TZOFFSETTO:+0000
TZNAME:UTC
DTSTART:20200101T000000
END:STANDARD
END:VTIMEZONE
BEGIN:VEVENT
DTSTART;VALUE=DATE:20250805
DTEND;VALUE=DATE:20250806
DTSTAMP:20260420T183719
CREATED:20241230T222941Z
LAST-MODIFIED:20241230T222941Z
UID:6562-1754352000-1754438399@personalbesttalent.com
SUMMARY:Summer Play Production
DESCRIPTION:Tuesday evenings August 5th-26th \nExtra rehearsals around group schedules \nFinal Show Saturday September 6th- Village Meeting House Theatre
URL:https://personalbesttalent.com/event/summer-play-production/
CATEGORIES:Classes
END:VEVENT
BEGIN:VEVENT
DTSTART;VALUE=DATE:20250707
DTEND;VALUE=DATE:20250713
DTSTAMP:20260420T183719
CREATED:20241230T223035Z
LAST-MODIFIED:20241230T223035Z
UID:6564-1751846400-1752364799@personalbesttalent.com
SUMMARY:International Model and Talent Association
DESCRIPTION:National competition held in NYC July 7th-12th \nContact Susan for more information (716) 316-7594 or susan@personalbesttalent.com
URL:https://personalbesttalent.com/event/international-model-and-talent-association/
CATEGORIES:Competitions
END:VEVENT
BEGIN:VEVENT
DTSTART;VALUE=DATE:20250316
DTEND;VALUE=DATE:20250317
DTSTAMP:20260420T183719
CREATED:20241230T222806Z
LAST-MODIFIED:20241230T222806Z
UID:6558-1742083200-1742169599@personalbesttalent.com
SUMMARY:Spring Play Production
DESCRIPTION:Rehearsals on Sunday afternoons @ Personal Best and Village Meeting House theatre on 5658 Main St. in Williamsville) \n(no rehearsals during Easter break) \nStart Date: Sunday March 16 \nSunday Show date to be determined by group
URL:https://personalbesttalent.com/event/spring-play-production/
CATEGORIES:Classes
END:VEVENT
BEGIN:VEVENT
DTSTART;VALUE=DATE:20250308
DTEND;VALUE=DATE:20250309
DTSTAMP:20260420T183719
CREATED:20241230T222835Z
LAST-MODIFIED:20241230T222835Z
UID:6560-1741392000-1741478399@personalbesttalent.com
SUMMARY:TV/Drama Class
DESCRIPTION:Saturdays 2:30-4:30pm for 5 weeks \nStart Date: March 8th
URL:https://personalbesttalent.com/event/tv-drama-class/
CATEGORIES:Classes
END:VEVENT
BEGIN:VEVENT
DTSTART;TZID=UTC:20230801T183000
DTEND;TZID=UTC:20230905T203000
DTSTAMP:20260420T183719
CREATED:20230602T202745Z
LAST-MODIFIED:20230602T202745Z
UID:6544-1690914600-1693945800@personalbesttalent.com
SUMMARY:Acting/ Play Production Camp
DESCRIPTION:Acting/ Play Production Camp\n \nTuesdays 6:30pm-8:15pm starting August 1st -September 5th\, 2023\n\nLocation: Village Meeting House Theatre-5658 Main St. Williamsville\, NY 14221\n\nStudents will learn:\nHow to put on a stage play (not musical) Audition techniques-Creating your Character-Improv-\nWorking with cast members-Stage movement- Play production skills\n\nStudents will present a play (Comedy or Drama TBA) Sunday September 10th\, 2023\n\nCost: $395.00\nBig discounts for participants who do both the Musical and the Play Production Camps.
URL:https://personalbesttalent.com/event/acting-play-production-camp/
CATEGORIES:Classes
END:VEVENT
BEGIN:VEVENT
DTSTART;TZID=UTC:20230801T163000
DTEND;TZID=UTC:20230905T183000
DTSTAMP:20260420T183719
CREATED:20230602T202614Z
LAST-MODIFIED:20230602T202614Z
UID:6542-1690907400-1693938600@personalbesttalent.com
SUMMARY:Musical Theatre Camp
DESCRIPTION:Tuesdays 4:30pm – 6:15pm starting August 1st – September 5th\, 2023\n\nLocation: Village Meeting House Theatre – 5658 Main St. Williamsville\, NY 14221\n \nStudents will present Seussical the Musical Jr. Saturday 9th\, 2023 . This a fun musical romp\nwith characters from Dr. Seuss’s timeless stories.\n\nStudents will learn the following:\nAudition skills-Character and Vocal Development – Stage Movement- Choreography-\nScene Study-Production Development .There are singing and non singing parts. Advanced and Beginners welcome.\n\nCost: $495.00
URL:https://personalbesttalent.com/event/musical-theatre-camp/
CATEGORIES:Classes
END:VEVENT
BEGIN:VEVENT
DTSTART;TZID=UTC:20230731T180000
DTEND;TZID=UTC:20230804T200000
DTSTAMP:20260420T183719
CREATED:20230602T202315Z
LAST-MODIFIED:20230602T202315Z
UID:6538-1690826400-1691179200@personalbesttalent.com
SUMMARY:Introduction to Personal Development and Modeling  Bootcamp
DESCRIPTION:Monday July 31st – Friday August 4th 2023\n6:00-8:00pm\nLocation: Personal Best\n\nStudents will learn about the following:\nInterpersonal Communication – Self Care- Confidence and Character Building- Skincare and  Basic Make up\nIntro to Runway- Model Terms- Intro to Print Modeling- Posture and Poise- Cleaning out your Closet- Colors that Work for You\n\nCost: $395 ( if you register and pay in full by May 15th 2023 -you save $50.00)\n\nWe only take up to 7 students in this class.
URL:https://personalbesttalent.com/event/introduction-to-personal-development-and-modeling-bootcamp/
LOCATION:Personal Best Talent\, 3653 Harlem Rd\, Buffalo\, NY\, 14215\, United States
CATEGORIES:Classes
END:VEVENT
BEGIN:VEVENT
DTSTART;TZID=UTC:20230717T180000
DTEND;TZID=UTC:20230721T200000
DTSTAMP:20260420T183719
CREATED:20230602T202426Z
LAST-MODIFIED:20230602T202426Z
UID:6540-1689616800-1689969600@personalbesttalent.com
SUMMARY:Fun with Fashion and Modeling
DESCRIPTION:Monday  July 17th – Friday July 21st\, 2023\n6:00-8:00pm\nLocation: Personal Best\n \nHistory of Fashion – Sustainable Fashion for Today’s Generation- Go Shopping in Your Closet-\nFashion Cycle- Fashion Show Prep-Careers in Fashion- Defining your personal style\n\nCost: $395
URL:https://personalbesttalent.com/event/fun-with-fashion-and-modeling/
LOCATION:Personal Best Talent\, 3653 Harlem Rd\, Buffalo\, NY\, 14215\, United States
END:VEVENT
BEGIN:VEVENT
DTSTART;VALUE=DATE:20220802
DTEND;VALUE=DATE:20220912
DTSTAMP:20260420T183719
CREATED:20220705T143940Z
LAST-MODIFIED:20220705T143940Z
UID:6531-1659398400-1662940799@personalbesttalent.com
SUMMARY:Summer Theatre Camp
DESCRIPTION:Meets every Tuesday for 6 weeks at the Village Meeting House Theatre on Main Street in Williamsville \nFrom 6:30 – 8:15 p.m. \nFor ages 8 to adult; Beginners welcome \nFocuses on Character Development * Stage Movement * Audition Skills * Script Interpretation * Memorization \nNOTE: Our final production\, which will be held Sunday\, Sept. 11th\,  is the award-winning play “Our Town.” There will be extra rehearsals on Sept 7th and 8th.
URL:https://personalbesttalent.com/event/summer-theatre-camp/
CATEGORIES:Classes
END:VEVENT
BEGIN:VEVENT
DTSTART;VALUE=DATE:20220802
DTEND;VALUE=DATE:20220912
DTSTAMP:20260420T183719
CREATED:20220705T143845Z
LAST-MODIFIED:20220705T143845Z
UID:6529-1659398400-1662940799@personalbesttalent.com
SUMMARY:Summer Musical Theatre Camp
DESCRIPTION:Begins Tuesday\, August 2nd \nMeets every Tuesday for 6 weeks at the Village Meeting House Theatre on Main Street in Williamsville \nFrom 4:30 – 6:15 p.m. \nFor ages 8 to adult; Beginners welcome \nFocuses on Character Development * Stage Movement * Vocal Techniques * Audition Skills * Script Interpretation * Memorization \nNOTE: Our final production\, which will be held Sunday\, Sept. 11th\,  is the musical “You’re A Good Man\, Charlie Brown.” There will be extra rehearsals on Sept 7th and 8th.
URL:https://personalbesttalent.com/event/summer-musical-theatre-camp/
CATEGORIES:Classes
END:VEVENT
BEGIN:VEVENT
DTSTART;VALUE=DATE:20220801
DTEND;VALUE=DATE:20220808
DTSTAMP:20260420T183719
CREATED:20220705T143719Z
LAST-MODIFIED:20220705T143719Z
UID:6527-1659312000-1659916799@personalbesttalent.com
SUMMARY:Personal Development / Model Bootcamp
DESCRIPTION:Meets every day for one week starting Monday\, August 1st \nFrom 6 – 8 p.m. \nAppropriate for ages 10+ \nFocuses on Confidence Building * Communication Skills * Personal Style * Personality Traits * Runway * Posture & Poise * Social Etiquette * Head-to-Toe Appearance
URL:https://personalbesttalent.com/event/personal-development-model-bootcamp/
LOCATION:Personal Best Talent\, 3653 Harlem Rd\, Buffalo\, NY\, 14215\, United States
CATEGORIES:Classes
END:VEVENT
BEGIN:VEVENT
DTSTART;VALUE=DATE:20220710
DTEND;VALUE=DATE:20220715
DTSTAMP:20260420T183719
CREATED:20220130T000227Z
LAST-MODIFIED:20220130T000227Z
UID:6523-1657411200-1657843199@personalbesttalent.com
SUMMARY:International Model and Talent Competition New York City
DESCRIPTION:
URL:https://personalbesttalent.com/event/international-model-and-talent-competition-new-york-city/
LOCATION:New York City\, New York\, NY\, United States
CATEGORIES:Competitions
END:VEVENT
BEGIN:VEVENT
DTSTART;VALUE=DATE:20220710
DTEND;VALUE=DATE:20220716
DTSTAMP:20260420T183719
CREATED:20210713T004836Z
LAST-MODIFIED:20210713T004836Z
UID:6491-1657411200-1657929599@personalbesttalent.com
SUMMARY:International Modeling and Talent Competition - NYC
DESCRIPTION:
URL:https://personalbesttalent.com/event/international-modeling-and-talent-competition-nyc/
LOCATION:New York City\, New York\, NY\, United States
CATEGORIES:Competitions
END:VEVENT
BEGIN:VEVENT
DTSTART;VALUE=DATE:20220605
DTEND;VALUE=DATE:20220606
DTSTAMP:20260420T183719
CREATED:20220130T000106Z
LAST-MODIFIED:20220130T000106Z
UID:6519-1654387200-1654473599@personalbesttalent.com
SUMMARY:Spring Fashion Show/ Dance Party
DESCRIPTION:
URL:https://personalbesttalent.com/event/spring-fashion-show-dance-party/
LOCATION:Personal Best Talent\, 3653 Harlem Rd\, Buffalo\, NY\, 14215\, United States
CATEGORIES:Event
END:VEVENT
BEGIN:VEVENT
DTSTART;VALUE=DATE:20220511
DTEND;VALUE=DATE:20220516
DTSTAMP:20260420T183719
CREATED:20220130T000154Z
LAST-MODIFIED:20220130T000154Z
UID:6521-1652227200-1652659199@personalbesttalent.com
SUMMARY:CMTC Model and Talent Competition
DESCRIPTION:
URL:https://personalbesttalent.com/event/cmtc-model-and-talent-competition/
CATEGORIES:Competitions
END:VEVENT
BEGIN:VEVENT
DTSTART;VALUE=DATE:20220501
DTEND;VALUE=DATE:20220502
DTSTAMP:20260420T183719
CREATED:20210713T004755Z
LAST-MODIFIED:20210713T004755Z
UID:6489-1651363200-1651449599@personalbesttalent.com
SUMMARY:International Canadian Model & Talent Competition - Toronto
DESCRIPTION:
URL:https://personalbesttalent.com/event/international-canadian-model-talent-competition-toronto/
LOCATION:Toronto\, CA\, Toronto\, Canada
CATEGORIES:Competitions
END:VEVENT
BEGIN:VEVENT
DTSTART;TZID=UTC:20220321T181500
DTEND;TZID=UTC:20220502T194500
DTSTAMP:20260420T183719
CREATED:20220130T000001Z
LAST-MODIFIED:20220130T000001Z
UID:6517-1647886500-1651520700@personalbesttalent.com
SUMMARY:Advanced Personal Development and Modeling
DESCRIPTION:Begins March 21\, 2022  \nAge depends on maturity level of student  \nMeets every Monday evening for 6 weeks (No classes over Easter break) From 6:15pm – 7:45pm  \nFocuses on:  \n* Interpersonal Skills\n* Interview Techniques\n* Contemporary Fashion\n* Runway\n* Industry Terms\n* TV and Print Modeling
URL:https://personalbesttalent.com/event/advanced-personal-development-and-modeling/
LOCATION:Personal Best Talent\, 3653 Harlem Rd\, Buffalo\, NY\, 14215\, United States
CATEGORIES:Classes
END:VEVENT
BEGIN:VEVENT
DTSTART;TZID=UTC:20220319T143000
DTEND;TZID=UTC:20220514T160000
DTSTAMP:20260420T183719
CREATED:20220129T235831Z
LAST-MODIFIED:20220129T235831Z
UID:6515-1647700200-1652544000@personalbesttalent.com
SUMMARY:TV/ Drama
DESCRIPTION:Begins March 19\, 2022  \nMeets every Saturday afternoon for 8 weeks (No classes over Easter break) From 2:30pm–4:00pm  \nAppropriate for ages 10+  \nFocuses on: \n* Monologues\n* Improv\n* Character Development\n* Stage Movement\n* On Camera Auditioning 
URL:https://personalbesttalent.com/event/tv-drama-2/
LOCATION:Personal Best Talent\, 3653 Harlem Rd\, Buffalo\, NY\, 14215\, United States
CATEGORIES:Classes
END:VEVENT
BEGIN:VEVENT
DTSTART;TZID=UTC:20220319T100000
DTEND;TZID=UTC:20220423T113000
DTSTAMP:20260420T183719
CREATED:20220129T235615Z
LAST-MODIFIED:20220129T235615Z
UID:6513-1647684000-1650713400@personalbesttalent.com
SUMMARY:Personal Development
DESCRIPTION:Begins March 19\, 2022  \nMeets every Saturday morning for 6 weeks (No classes over Easter break) From 10am – 11:30am  \nAppropriate for ages 10+  \nFocuses on:  \n*Confidence Building\n* Communication Skills\n* Personal Style\n* Personality Traits\n* Posture and Poise\n* Social Etiquette\n* Head to toe Appearance 
URL:https://personalbesttalent.com/event/personal-development-2/
LOCATION:Personal Best Talent\, 3653 Harlem Rd\, Buffalo\, NY\, 14215\, United States
CATEGORIES:Classes
END:VEVENT
BEGIN:VEVENT
DTSTART;VALUE=DATE:20220103
DTEND;VALUE=DATE:20220108
DTSTAMP:20260420T183719
CREATED:20210713T004653Z
LAST-MODIFIED:20210713T004653Z
UID:6486-1641168000-1641599999@personalbesttalent.com
SUMMARY:International Modeling and Talent Competition - Los Angeles
DESCRIPTION:
URL:https://personalbesttalent.com/event/international-modeling-and-talent-competition-los-angeles/
LOCATION:Los Angeles\, CA\, Los Angeles\, CA\, United States
CATEGORIES:Competitions
END:VEVENT
BEGIN:VEVENT
DTSTART;VALUE=DATE:20211204
DTEND;VALUE=DATE:20220109
DTSTAMP:20260420T183719
CREATED:20211021T204505Z
LAST-MODIFIED:20211021T204505Z
UID:6503-1638576000-1641686399@personalbesttalent.com
SUMMARY:Modeling
DESCRIPTION:Modeling \nBegins December 3rd \nMeets every Saturday morning for 6 weeks \nFrom 10 – 11:30am \nFocuses on Runway Technique * Print & Promotional Modeling * On-Camera Performance * Industry Terminology
URL:https://personalbesttalent.com/event/modeling/
CATEGORIES:Classes
END:VEVENT
BEGIN:VEVENT
DTSTART;VALUE=DATE:20211120
DTEND;VALUE=DATE:20211122
DTSTAMP:20260420T183719
CREATED:20211021T204551Z
LAST-MODIFIED:20211021T204551Z
UID:6505-1637366400-1637539199@personalbesttalent.com
SUMMARY:WNY Young Performers Showcase
DESCRIPTION:WNY Young Performers Showcase \nNovember 20 & 21st
URL:https://personalbesttalent.com/event/wny-young-performers-showcase/
LOCATION:Personal Best Talent\, 3653 Harlem Rd\, Buffalo\, NY\, 14215\, United States
CATEGORIES:Competitions
END:VEVENT
BEGIN:VEVENT
DTSTART;VALUE=DATE:20211108
DTEND;VALUE=DATE:20211214
DTSTAMP:20260420T183719
CREATED:20211021T204407Z
LAST-MODIFIED:20211021T204407Z
UID:6501-1636329600-1639439999@personalbesttalent.com
SUMMARY:Personal Development
DESCRIPTION:Personal Development \nBegins November 8th \nMeets every Monday evening for 6 weeks \nFrom 6:15 – 7:45 pm \nFocuses on Confidence Building * Interpersonal Communication * Personal Fashion *Grooming * Public Speaking * Everyday Etiquette
URL:https://personalbesttalent.com/event/personal-development/
LOCATION:Personal Best Talent\, 3653 Harlem Rd\, Buffalo\, NY\, 14215\, United States
CATEGORIES:Classes
END:VEVENT
BEGIN:VEVENT
DTSTART;VALUE=DATE:20211106
DTEND;VALUE=DATE:20211205
DTSTAMP:20260420T183719
CREATED:20211021T204325Z
LAST-MODIFIED:20211021T204325Z
UID:6499-1636156800-1638662399@personalbesttalent.com
SUMMARY:Advanced TV/Drama
DESCRIPTION:Advanced TV/ Drama \nBegins November 6th \nMeets every Saturday afternoon for 5 weeks \nFrom 1 – 2:15 pm \nFocuses on TV Hosting * TV Commercials * Voice-Overs * Advanced Acting Skills * Casting Tips
URL:https://personalbesttalent.com/event/advanced-tv-drama/
LOCATION:Personal Best Talent\, 3653 Harlem Rd\, Buffalo\, NY\, 14215\, United States
CATEGORIES:Classes
END:VEVENT
BEGIN:VEVENT
DTSTART;TZID=UTC:20210809T180000
DTEND;TZID=UTC:20210813T200000
DTSTAMP:20260420T183719
CREATED:20210713T003429Z
LAST-MODIFIED:20210713T003429Z
UID:6478-1628532000-1628884800@personalbesttalent.com
SUMMARY:Personal Development Modeling Bootcamp
DESCRIPTION:Developing your best self from head to toe- fashion-make-up-poise- communication skills-everyday etiquette\n\nIntro to basic modeling-runway- model terms-models bag-auditioning skills- print work\n\nClass meets 6:00pm – 8:00pm\, Monday – Friday
URL:https://personalbesttalent.com/event/personal-development-modeling-bootcamp/
LOCATION:Personal Best Talent\, 3653 Harlem Rd\, Buffalo\, NY\, 14215\, United States
CATEGORIES:Classes
END:VEVENT
BEGIN:VEVENT
DTSTART;VALUE=DATE:20210804
DTEND;VALUE=DATE:20211017
DTSTAMP:20260420T183719
CREATED:20210713T004318Z
LAST-MODIFIED:20210713T004318Z
UID:6482-1628035200-1634428799@personalbesttalent.com
SUMMARY:TV Drama
DESCRIPTION:  \n8 weeks – Split sessions – 4 weeks each \nWednesdays – August 4th\, 2021 – 6:15pm – 7:45pm – Intro to TV Commercials \nSaturdays – September 25th\, 2021 – 2:30pm – 4:00pm – Intro to Drama
URL:https://personalbesttalent.com/event/tv-drama/
LOCATION:Personal Best Talent\, 3653 Harlem Rd\, Buffalo\, NY\, 14215\, United States
CATEGORIES:Classes
END:VEVENT
BEGIN:VEVENT
DTSTART;TZID=UTC:20210803T181500
DTEND;TZID=UTC:20210907T200000
DTSTAMP:20260420T183719
CREATED:20210713T003947Z
LAST-MODIFIED:20210713T003947Z
UID:6480-1628014500-1631044800@personalbesttalent.com
SUMMARY:Let's Put On a Play
DESCRIPTION:Tuesdays\, beginning August 3rd\, 2021. \nAudition like a pro- land the part you want- improv- scene work-blocking-teamwork-\nconfidence building- there are no small parts! We’ll put on a play you’ll love!\n\nClasses will be held at the Harlem Road Community Center auditorium.\nFinal show will be held Saturday afternoon\, September 11\, 2021
URL:https://personalbesttalent.com/event/lets-put-on-a-play/
CATEGORIES:Classes
END:VEVENT
BEGIN:VEVENT
DTSTART;VALUE=DATE:20210802
DTEND;VALUE=DATE:20210907
DTSTAMP:20260420T183719
CREATED:20210713T004520Z
LAST-MODIFIED:20210713T004520Z
UID:6484-1627862400-1630972799@personalbesttalent.com
SUMMARY:Teen Fashion Program (6 Weeks + fashion show)
DESCRIPTION:Mondays\, beginning August 1st\, 2021 \nFashion terms- fashion history- fashion designers- personal style-cleaning out your closet- your best colors-\nmodular wardrobing- putting on a runway fashion show\n\nFashion show date TBD
URL:https://personalbesttalent.com/event/teen-fashion-program-6-weeks-fashion-show/
LOCATION:Personal Best Talent\, 3653 Harlem Rd\, Buffalo\, NY\, 14215\, United States
CATEGORIES:Classes
END:VEVENT
BEGIN:VEVENT
DTSTART;VALUE=DATE:20210130
DTEND;VALUE=DATE:20210307
DTSTAMP:20260420T183719
CREATED:20210106T211135Z
LAST-MODIFIED:20210106T211135Z
UID:6422-1611964800-1615075199@personalbesttalent.com
SUMMARY:Kids in the Spotlight
DESCRIPTION:Starting January 30th: Saturdays from 1:00-2:00pm for 6 weeks.\n\nBuilding Confidence and Communication Abilities\nIntro to Commercial Acting\nBasic Modeling skills 
URL:https://personalbesttalent.com/event/kids-in-the-spotlight/
LOCATION:Personal Best Talent\, 3653 Harlem Rd\, Buffalo\, NY\, 14215\, United States
END:VEVENT
BEGIN:VEVENT
DTSTART;TZID=UTC:20201110T180000
DTEND;TZID=UTC:20201110T190000
DTSTAMP:20260420T183719
CREATED:20201016T014302Z
LAST-MODIFIED:20201018T234015Z
UID:6402-1605031200-1605034800@personalbesttalent.com
SUMMARY:Simple (& Fun) Etiquette for Boys
DESCRIPTION:Tuesdays \nBeginning November 10th\, 2020 \n6-7pm \nAges: 8+ \n  \nLearn Etiquette * Communication Do’s and Don’ts * R-E-S-P-E-C-T * Confidence Boosters * Group Work * Self-Care
URL:https://personalbesttalent.com/event/simple-fun-etiquette-for-boys/
LOCATION:Personal Best Talent\, 3653 Harlem Rd\, Buffalo\, NY\, 14215\, United States
CATEGORIES:Classes
END:VEVENT
END:VCALENDAR